BEGIN:VCALENDAR
VERSION:2.0
PRODID:-//İş Sanat - ECPv6.15.18//NONSGML v1.0//EN
CALSCALE:GREGORIAN
METHOD:PUBLISH
X-WR-CALNAME:İş Sanat
X-ORIGINAL-URL:https://issanat.com.tr
X-WR-CALDESC:İş Sanat için etkinlikler
REFRESH-INTERVAL;VALUE=DURATION:PT1H
X-Robots-Tag:noindex
X-PUBLISHED-TTL:PT1H
BEGIN:VTIMEZONE
TZID:Europe/Istanbul
BEGIN:STANDARD
TZOFFSETFROM:+0300
TZOFFSETTO:+0300
TZNAME:+03
DTSTART:20250101T000000
END:STANDARD
END:VTIMEZONE
BEGIN:VEVENT
DTSTART;TZID=Europe/Istanbul:20260425T120000
DTEND;TZID=Europe/Istanbul:20260425T140000
DTSTAMP:20260425T154432
CREATED:20260401T064345Z
LAST-MODIFIED:20260401T080125Z
UID:10001611-1777118400-1777125600@issanat.com.tr
SUMMARY:Yan Yana Portreler
DESCRIPTION:Atölye				\n					\n		\n				\n			\n						\n					Paylaş:				\n				\n							\n						\n					\n		\n					\n		\n				\n							\n			\n		\n						\n				\n					Yaşantının Getirdikleri: Anı Yakala				\n				\n							\n			\n		\n						\n				\n									Bu atölyede çocuklar\, sanatçıların gündelik yaşamı nasıl gördüklerini ve bunu eserlerine nasıl yansıttıklarını keşfe çıkacak. Çeşitli tabloları birlikte inceleyen katılımcılar; sıradan gibi görünen anların aslında ne kadar özel ve anlatmaya değer olduğunu fark edecek. Atölye boyunca çocuklar\, sanatçıların renk\, kompozisyon ve detay seçimleri üzerine sohbet ederken kendi yaşamlarından kesitleri düşünmeye teşvik edilecek. Kendi hayatlarından veya hayallerinden bir anı yada sahneyi sanat yoluyla ifade edecek. Uygulayan: RHM Eğitim Ekibi 8 – 12 Yaş 								\n				\n							\n			\n		\n						\n					\n		\n				\n			\n						\n						\n					\n			\n						\n					DETAYLAR				\n				\n							\n			\n						\n		\n						\n				\n							\n			\n		\n						\n				\n							\n							\n											\n													\n										24 Mayıs Pazar - 12.00\n									\n								\n											\n													\n										İş Vapur\, Galataport Paket Postanesi Kapısı\n									\n						\n						\n				\n							\n			\n		\n						\n				\n										\n						\n									REZERVASYON\n					\n					\n								\n					\n		\n					\n		\n				\n						\n					\n			\n						\n					Yaklaşan Atölyeler				\n				\n							\n			\n		\n						\n					\n		\n					\n		\n				\n				\n					\n			\n						\n						\n					\n			\n						\n				\n					\n							\n						            Görüntüle\n            				\n				\n					\n		\n				\n			\n						\n				\n					\n	Şekillerin Peşinde				\n				\n				\n							\n			\n		\n						\n				\n				\n					\n			\n			Benan Solak		\n						\n				\n				\n							\n			\n		\n						\n				\n				\n					\n	Türkiye İş Bankası Resim Heykel Müzesi  \n \nİş Vapur Atölye				\n				\n					\n		\n					\n		\n				\n						\n					\n			\n						\n							\n			\n						\n		\n						\n					\n		\n					\n		\n				\n		\n			\n						\n						\n					\n			\n						\n				\n					\n							\n						            Görüntüle\n            				\n				\n					\n		\n				\n			\n						\n				\n					\n	Benim Kumbaram				\n				\n				\n							\n			\n		\n						\n				\n				\n					\n			\n			Benan Solak		\n						\n				\n				\n							\n			\n		\n						\n				\n				\n					\n	Türkiye İş Bankası Resim Heykel Müzesi  \n \nİş Vapur Atölye				\n				\n					\n		\n					\n		\n				\n						\n					\n			\n						\n							\n			\n						\n		\n						\n					\n		\n					\n		\n				\n		\n			\n						\n						\n					\n			\n						\n				\n					\n							\n						            Görüntüle\n            				\n				\n					\n		\n				\n			\n						\n				\n					\n	Tabağımdaki Natürmort				\n				\n				\n							\n			\n		\n						\n				\n				\n					\n			\n			Benan Solak		\n						\n				\n				\n							\n			\n		\n						\n				\n				\n					\n	Türkiye İş Bankası Resim Heykel Müzesi  \n \nİş Vapur Atölye
URL:https://issanat.com.tr/etkinlik/yan-yana-portreler-7/
CATEGORIES:Resim Heykel Müzesi Atölye
ATTACH;FMTTYPE=image/jpeg:https://issanat.com.tr/wp-content/uploads/2025/10/ISSA-162_Atolyeler_RHM_YanyanaPortreler_720x513.jpg
END:VEVENT
BEGIN:VEVENT
DTSTART;TZID=Europe/Istanbul:20260425T130000
DTEND;TZID=Europe/Istanbul:20260425T140000
DTSTAMP:20260425T154432
CREATED:20260331T080722Z
LAST-MODIFIED:20260331T080722Z
UID:10001590-1777122000-1777125600@issanat.com.tr
SUMMARY:Hikâyeyi Tamamla: Masaldan Resme
DESCRIPTION:Atölye				\n					\n		\n				\n			\n						\n					Paylaş:				\n				\n							\n						\n					\n		\n					\n		\n				\n							\n			\n		\n						\n				\n					Yaşantının Getirdikleri: Anı Yakala				\n				\n							\n			\n		\n						\n				\n									Bu atölyede çocuklar\, sanatçıların gündelik yaşamı nasıl gördüklerini ve bunu eserlerine nasıl yansıttıklarını keşfe çıkacak. Çeşitli tabloları birlikte inceleyen katılımcılar; sıradan gibi görünen anların aslında ne kadar özel ve anlatmaya değer olduğunu fark edecek. Atölye boyunca çocuklar\, sanatçıların renk\, kompozisyon ve detay seçimleri üzerine sohbet ederken kendi yaşamlarından kesitleri düşünmeye teşvik edilecek. Kendi hayatlarından veya hayallerinden bir anı yada sahneyi sanat yoluyla ifade edecek. Uygulayan: RHM Eğitim Ekibi 8 – 12 Yaş 								\n				\n							\n			\n		\n						\n					\n		\n				\n			\n						\n						\n					\n			\n						\n					DETAYLAR				\n				\n							\n			\n						\n		\n						\n				\n							\n			\n		\n						\n				\n							\n							\n											\n													\n										24 Mayıs Pazar - 12.00\n									\n								\n											\n													\n										İş Vapur\, Galataport Paket Postanesi Kapısı\n									\n						\n						\n				\n							\n			\n		\n						\n				\n										\n						\n									REZERVASYON\n					\n					\n								\n					\n		\n					\n		\n				\n						\n					\n			\n						\n					Yaklaşan Atölyeler				\n				\n							\n			\n		\n						\n					\n		\n					\n		\n				\n				\n					\n			\n						\n						\n					\n			\n						\n				\n					\n							\n						            Görüntüle\n            				\n				\n					\n		\n				\n			\n						\n				\n					\n	Şekillerin Peşinde				\n				\n				\n							\n			\n		\n						\n				\n				\n					\n			\n			Benan Solak		\n						\n				\n				\n							\n			\n		\n						\n				\n				\n					\n	Türkiye İş Bankası Resim Heykel Müzesi  \n \nİş Vapur Atölye				\n				\n					\n		\n					\n		\n				\n						\n					\n			\n						\n							\n			\n						\n		\n						\n					\n		\n					\n		\n				\n		\n			\n						\n						\n					\n			\n						\n				\n					\n							\n						            Görüntüle\n            				\n				\n					\n		\n				\n			\n						\n				\n					\n	Benim Kumbaram				\n				\n				\n							\n			\n		\n						\n				\n				\n					\n			\n			Benan Solak		\n						\n				\n				\n							\n			\n		\n						\n				\n				\n					\n	Türkiye İş Bankası Resim Heykel Müzesi  \n \nİş Vapur Atölye				\n				\n					\n		\n					\n		\n				\n						\n					\n			\n						\n							\n			\n						\n		\n						\n					\n		\n					\n		\n				\n		\n			\n						\n						\n					\n			\n						\n				\n					\n							\n						            Görüntüle\n            				\n				\n					\n		\n				\n			\n						\n				\n					\n	Tabağımdaki Natürmort				\n				\n				\n							\n			\n		\n						\n				\n				\n					\n			\n			Benan Solak		\n						\n				\n				\n							\n			\n		\n						\n				\n				\n					\n	Türkiye İş Bankası Resim Heykel Müzesi  \n \nİş Vapur Atölye
URL:https://issanat.com.tr/etkinlik/hikayeyi-tamamla-masaldan-resme-4/
CATEGORIES:İktisadi Bağımsızlık Müzesi Atölye
ATTACH;FMTTYPE=image/jpeg:https://issanat.com.tr/wp-content/uploads/2026/03/ISSA-598_IBM_Ulus_Atolyeleri_720x513_Hikayeyi_Tamamla_2.jpg
END:VEVENT
BEGIN:VEVENT
DTSTART;TZID=Europe/Istanbul:20260425T130000
DTEND;TZID=Europe/Istanbul:20260425T140000
DTSTAMP:20260425T154432
CREATED:20260406T085126Z
LAST-MODIFIED:20260406T085126Z
UID:10001622-1777122000-1777125600@issanat.com.tr
SUMMARY:Dünyaya Sarılan Eller
DESCRIPTION:Atölye				\n					\n		\n				\n			\n						\n					Paylaş:				\n				\n							\n						\n					\n		\n					\n		\n				\n							\n			\n		\n						\n				\n					Yaşantının Getirdikleri: Anı Yakala				\n				\n							\n			\n		\n						\n				\n									Bu atölyede çocuklar\, sanatçıların gündelik yaşamı nasıl gördüklerini ve bunu eserlerine nasıl yansıttıklarını keşfe çıkacak. Çeşitli tabloları birlikte inceleyen katılımcılar; sıradan gibi görünen anların aslında ne kadar özel ve anlatmaya değer olduğunu fark edecek. Atölye boyunca çocuklar\, sanatçıların renk\, kompozisyon ve detay seçimleri üzerine sohbet ederken kendi yaşamlarından kesitleri düşünmeye teşvik edilecek. Kendi hayatlarından veya hayallerinden bir anı yada sahneyi sanat yoluyla ifade edecek. Uygulayan: RHM Eğitim Ekibi 8 – 12 Yaş 								\n				\n							\n			\n		\n						\n					\n		\n				\n			\n						\n						\n					\n			\n						\n					DETAYLAR				\n				\n							\n			\n						\n		\n						\n				\n							\n			\n		\n						\n				\n							\n							\n											\n													\n										24 Mayıs Pazar - 12.00\n									\n								\n											\n													\n										İş Vapur\, Galataport Paket Postanesi Kapısı\n									\n						\n						\n				\n							\n			\n		\n						\n				\n										\n						\n									REZERVASYON\n					\n					\n								\n					\n		\n					\n		\n				\n						\n					\n			\n						\n					Yaklaşan Atölyeler				\n				\n							\n			\n		\n						\n					\n		\n					\n		\n				\n				\n					\n			\n						\n						\n					\n			\n						\n				\n					\n							\n						            Görüntüle\n            				\n				\n					\n		\n				\n			\n						\n				\n					\n	Şekillerin Peşinde				\n				\n				\n							\n			\n		\n						\n				\n				\n					\n			\n			Benan Solak		\n						\n				\n				\n							\n			\n		\n						\n				\n				\n					\n	Türkiye İş Bankası Resim Heykel Müzesi  \n \nİş Vapur Atölye				\n				\n					\n		\n					\n		\n				\n						\n					\n			\n						\n							\n			\n						\n		\n						\n					\n		\n					\n		\n				\n		\n			\n						\n						\n					\n			\n						\n				\n					\n							\n						            Görüntüle\n            				\n				\n					\n		\n				\n			\n						\n				\n					\n	Benim Kumbaram				\n				\n				\n							\n			\n		\n						\n				\n				\n					\n			\n			Benan Solak		\n						\n				\n				\n							\n			\n		\n						\n				\n				\n					\n	Türkiye İş Bankası Resim Heykel Müzesi  \n \nİş Vapur Atölye				\n				\n					\n		\n					\n		\n				\n						\n					\n			\n						\n							\n			\n						\n		\n						\n					\n		\n					\n		\n				\n		\n			\n						\n						\n					\n			\n						\n				\n					\n							\n						            Görüntüle\n            				\n				\n					\n		\n				\n			\n						\n				\n					\n	Tabağımdaki Natürmort				\n				\n				\n							\n			\n		\n						\n				\n				\n					\n			\n			Benan Solak		\n						\n				\n				\n							\n			\n		\n						\n				\n				\n					\n	Türkiye İş Bankası Resim Heykel Müzesi  \n \nİş Vapur Atölye
URL:https://issanat.com.tr/etkinlik/dunyaya-sarilan-eller/
CATEGORIES:Türkiye İş Bankası Müzesi Atölye
ATTACH;FMTTYPE=image/jpeg:https://issanat.com.tr/wp-content/uploads/2026/03/ISSA-598_TIBM_Eminonu_Atolyeleri_720x513_Dunyaya_Sarilan.jpg
END:VEVENT
BEGIN:VEVENT
DTSTART;TZID=Europe/Istanbul:20260425T143000
DTEND;TZID=Europe/Istanbul:20260425T153000
DTSTAMP:20260425T154432
CREATED:20260406T085130Z
LAST-MODIFIED:20260406T085130Z
UID:10001623-1777127400-1777131000@issanat.com.tr
SUMMARY:Dünyaya Sözüm Var
DESCRIPTION:Atölye				\n					\n		\n				\n			\n						\n					Paylaş:				\n				\n							\n						\n					\n		\n					\n		\n				\n							\n			\n		\n						\n				\n					Yaşantının Getirdikleri: Anı Yakala				\n				\n							\n			\n		\n						\n				\n									Bu atölyede çocuklar\, sanatçıların gündelik yaşamı nasıl gördüklerini ve bunu eserlerine nasıl yansıttıklarını keşfe çıkacak. Çeşitli tabloları birlikte inceleyen katılımcılar; sıradan gibi görünen anların aslında ne kadar özel ve anlatmaya değer olduğunu fark edecek. Atölye boyunca çocuklar\, sanatçıların renk\, kompozisyon ve detay seçimleri üzerine sohbet ederken kendi yaşamlarından kesitleri düşünmeye teşvik edilecek. Kendi hayatlarından veya hayallerinden bir anı yada sahneyi sanat yoluyla ifade edecek. Uygulayan: RHM Eğitim Ekibi 8 – 12 Yaş 								\n				\n							\n			\n		\n						\n					\n		\n				\n			\n						\n						\n					\n			\n						\n					DETAYLAR				\n				\n							\n			\n						\n		\n						\n				\n							\n			\n		\n						\n				\n							\n							\n											\n													\n										24 Mayıs Pazar - 12.00\n									\n								\n											\n													\n										İş Vapur\, Galataport Paket Postanesi Kapısı\n									\n						\n						\n				\n							\n			\n		\n						\n				\n										\n						\n									REZERVASYON\n					\n					\n								\n					\n		\n					\n		\n				\n						\n					\n			\n						\n					Yaklaşan Atölyeler				\n				\n							\n			\n		\n						\n					\n		\n					\n		\n				\n				\n					\n			\n						\n						\n					\n			\n						\n				\n					\n							\n						            Görüntüle\n            				\n				\n					\n		\n				\n			\n						\n				\n					\n	Şekillerin Peşinde				\n				\n				\n							\n			\n		\n						\n				\n				\n					\n			\n			Benan Solak		\n						\n				\n				\n							\n			\n		\n						\n				\n				\n					\n	Türkiye İş Bankası Resim Heykel Müzesi  \n \nİş Vapur Atölye				\n				\n					\n		\n					\n		\n				\n						\n					\n			\n						\n							\n			\n						\n		\n						\n					\n		\n					\n		\n				\n		\n			\n						\n						\n					\n			\n						\n				\n					\n							\n						            Görüntüle\n            				\n				\n					\n		\n				\n			\n						\n				\n					\n	Benim Kumbaram				\n				\n				\n							\n			\n		\n						\n				\n				\n					\n			\n			Benan Solak		\n						\n				\n				\n							\n			\n		\n						\n				\n				\n					\n	Türkiye İş Bankası Resim Heykel Müzesi  \n \nİş Vapur Atölye				\n				\n					\n		\n					\n		\n				\n						\n					\n			\n						\n							\n			\n						\n		\n						\n					\n		\n					\n		\n				\n		\n			\n						\n						\n					\n			\n						\n				\n					\n							\n						            Görüntüle\n            				\n				\n					\n		\n				\n			\n						\n				\n					\n	Tabağımdaki Natürmort				\n				\n				\n							\n			\n		\n						\n				\n				\n					\n			\n			Benan Solak		\n						\n				\n				\n							\n			\n		\n						\n				\n				\n					\n	Türkiye İş Bankası Resim Heykel Müzesi  \n \nİş Vapur Atölye
URL:https://issanat.com.tr/etkinlik/dunyaya-sozum-var/
CATEGORIES:Türkiye İş Bankası Müzesi Atölye
ATTACH;FMTTYPE=image/jpeg:https://issanat.com.tr/wp-content/uploads/2026/03/ISSA-598_TIBM_Eminonu_Atolyeleri_720x513_Dunyaya_Sozum_Var.jpg
END:VEVENT
BEGIN:VEVENT
DTSTART;TZID=Europe/Istanbul:20260425T150000
DTEND;TZID=Europe/Istanbul:20260425T160000
DTSTAMP:20260425T154432
CREATED:20260330T091101Z
LAST-MODIFIED:20260406T145422Z
UID:10001612-1777129200-1777132800@issanat.com.tr
SUMMARY:Kayıp Rengin Peşinde: Restorasyon Atölyesi
DESCRIPTION:Atölye				\n					\n		\n				\n			\n						\n					Paylaş:				\n				\n							\n						\n					\n		\n					\n		\n				\n							\n			\n		\n						\n				\n					Yaşantının Getirdikleri: Anı Yakala				\n				\n							\n			\n		\n						\n				\n									Bu atölyede çocuklar\, sanatçıların gündelik yaşamı nasıl gördüklerini ve bunu eserlerine nasıl yansıttıklarını keşfe çıkacak. Çeşitli tabloları birlikte inceleyen katılımcılar; sıradan gibi görünen anların aslında ne kadar özel ve anlatmaya değer olduğunu fark edecek. Atölye boyunca çocuklar\, sanatçıların renk\, kompozisyon ve detay seçimleri üzerine sohbet ederken kendi yaşamlarından kesitleri düşünmeye teşvik edilecek. Kendi hayatlarından veya hayallerinden bir anı yada sahneyi sanat yoluyla ifade edecek. Uygulayan: RHM Eğitim Ekibi 8 – 12 Yaş 								\n				\n							\n			\n		\n						\n					\n		\n				\n			\n						\n						\n					\n			\n						\n					DETAYLAR				\n				\n							\n			\n						\n		\n						\n				\n							\n			\n		\n						\n				\n							\n							\n											\n													\n										24 Mayıs Pazar - 12.00\n									\n								\n											\n													\n										İş Vapur\, Galataport Paket Postanesi Kapısı\n									\n						\n						\n				\n							\n			\n		\n						\n				\n										\n						\n									REZERVASYON\n					\n					\n								\n					\n		\n					\n		\n				\n						\n					\n			\n						\n					Yaklaşan Atölyeler				\n				\n							\n			\n		\n						\n					\n		\n					\n		\n				\n				\n					\n			\n						\n						\n					\n			\n						\n				\n					\n							\n						            Görüntüle\n            				\n				\n					\n		\n				\n			\n						\n				\n					\n	Şekillerin Peşinde				\n				\n				\n							\n			\n		\n						\n				\n				\n					\n			\n			Benan Solak		\n						\n				\n				\n							\n			\n		\n						\n				\n				\n					\n	Türkiye İş Bankası Resim Heykel Müzesi  \n \nİş Vapur Atölye				\n				\n					\n		\n					\n		\n				\n						\n					\n			\n						\n							\n			\n						\n		\n						\n					\n		\n					\n		\n				\n		\n			\n						\n						\n					\n			\n						\n				\n					\n							\n						            Görüntüle\n            				\n				\n					\n		\n				\n			\n						\n				\n					\n	Benim Kumbaram				\n				\n				\n							\n			\n		\n						\n				\n				\n					\n			\n			Benan Solak		\n						\n				\n				\n							\n			\n		\n						\n				\n				\n					\n	Türkiye İş Bankası Resim Heykel Müzesi  \n \nİş Vapur Atölye				\n				\n					\n		\n					\n		\n				\n						\n					\n			\n						\n							\n			\n						\n		\n						\n					\n		\n					\n		\n				\n		\n			\n						\n						\n					\n			\n						\n				\n					\n							\n						            Görüntüle\n            				\n				\n					\n		\n				\n			\n						\n				\n					\n	Tabağımdaki Natürmort				\n				\n				\n							\n			\n		\n						\n				\n				\n					\n			\n			Benan Solak		\n						\n				\n				\n							\n			\n		\n						\n				\n				\n					\n	Türkiye İş Bankası Resim Heykel Müzesi  \n \nİş Vapur Atölye
URL:https://issanat.com.tr/etkinlik/kayip-rengin-pesinde-restorasyon-atolyesi/
CATEGORIES:Resim Heykel Müzesi Atölye
ATTACH;FMTTYPE=image/jpeg:https://issanat.com.tr/wp-content/uploads/2026/03/ISSA-598_RHM_Atolyeleri_720x513_Kayip_Rengin_Pesinde.jpg
END:VEVENT
BEGIN:VEVENT
DTSTART;TZID=Europe/Istanbul:20260425T153000
DTEND;TZID=Europe/Istanbul:20260425T163000
DTSTAMP:20260425T154432
CREATED:20260330T092202Z
LAST-MODIFIED:20260330T162555Z
UID:10001586-1777131000-1777134600@issanat.com.tr
SUMMARY:Atlı Karınca Dönsün\, Oyun Başlasın
DESCRIPTION:Atölye				\n					\n		\n				\n			\n						\n					Paylaş:				\n				\n							\n						\n					\n		\n					\n		\n				\n							\n			\n		\n						\n				\n					Yaşantının Getirdikleri: Anı Yakala				\n				\n							\n			\n		\n						\n				\n									Bu atölyede çocuklar\, sanatçıların gündelik yaşamı nasıl gördüklerini ve bunu eserlerine nasıl yansıttıklarını keşfe çıkacak. Çeşitli tabloları birlikte inceleyen katılımcılar; sıradan gibi görünen anların aslında ne kadar özel ve anlatmaya değer olduğunu fark edecek. Atölye boyunca çocuklar\, sanatçıların renk\, kompozisyon ve detay seçimleri üzerine sohbet ederken kendi yaşamlarından kesitleri düşünmeye teşvik edilecek. Kendi hayatlarından veya hayallerinden bir anı yada sahneyi sanat yoluyla ifade edecek. Uygulayan: RHM Eğitim Ekibi 8 – 12 Yaş 								\n				\n							\n			\n		\n						\n					\n		\n				\n			\n						\n						\n					\n			\n						\n					DETAYLAR				\n				\n							\n			\n						\n		\n						\n				\n							\n			\n		\n						\n				\n							\n							\n											\n													\n										24 Mayıs Pazar - 12.00\n									\n								\n											\n													\n										İş Vapur\, Galataport Paket Postanesi Kapısı\n									\n						\n						\n				\n							\n			\n		\n						\n				\n										\n						\n									REZERVASYON\n					\n					\n								\n					\n		\n					\n		\n				\n						\n					\n			\n						\n					Yaklaşan Atölyeler				\n				\n							\n			\n		\n						\n					\n		\n					\n		\n				\n				\n					\n			\n						\n						\n					\n			\n						\n				\n					\n							\n						            Görüntüle\n            				\n				\n					\n		\n				\n			\n						\n				\n					\n	Şekillerin Peşinde				\n				\n				\n							\n			\n		\n						\n				\n				\n					\n			\n			Benan Solak		\n						\n				\n				\n							\n			\n		\n						\n				\n				\n					\n	Türkiye İş Bankası Resim Heykel Müzesi  \n \nİş Vapur Atölye				\n				\n					\n		\n					\n		\n				\n						\n					\n			\n						\n							\n			\n						\n		\n						\n					\n		\n					\n		\n				\n		\n			\n						\n						\n					\n			\n						\n				\n					\n							\n						            Görüntüle\n            				\n				\n					\n		\n				\n			\n						\n				\n					\n	Benim Kumbaram				\n				\n				\n							\n			\n		\n						\n				\n				\n					\n			\n			Benan Solak		\n						\n				\n				\n							\n			\n		\n						\n				\n				\n					\n	Türkiye İş Bankası Resim Heykel Müzesi  \n \nİş Vapur Atölye				\n				\n					\n		\n					\n		\n				\n						\n					\n			\n						\n							\n			\n						\n		\n						\n					\n		\n					\n		\n				\n		\n			\n						\n						\n					\n			\n						\n				\n					\n							\n						            Görüntüle\n            				\n				\n					\n		\n				\n			\n						\n				\n					\n	Tabağımdaki Natürmort				\n				\n				\n							\n			\n		\n						\n				\n				\n					\n			\n			Benan Solak		\n						\n				\n				\n							\n			\n		\n						\n				\n				\n					\n	Türkiye İş Bankası Resim Heykel Müzesi  \n \nİş Vapur Atölye
URL:https://issanat.com.tr/etkinlik/atli-karinca-donsun-oyun-baslasin/
CATEGORIES:Kibele Sanat Galerisi Atölyeleri
ATTACH;FMTTYPE=image/jpeg:https://issanat.com.tr/wp-content/uploads/2026/03/ISSA-598_Kibele_Atolyeleri_720x513_Atli_Karinca.jpg
END:VEVENT
BEGIN:VEVENT
DTSTART;TZID=Europe/Istanbul:20260425T160000
DTEND;TZID=Europe/Istanbul:20260425T170000
DTSTAMP:20260425T154432
CREATED:20260406T085132Z
LAST-MODIFIED:20260406T085132Z
UID:10001624-1777132800-1777136400@issanat.com.tr
SUMMARY:Denizin Koruyucuları
DESCRIPTION:Atölye				\n					\n		\n				\n			\n						\n					Paylaş:				\n				\n							\n						\n					\n		\n					\n		\n				\n							\n			\n		\n						\n				\n					Yaşantının Getirdikleri: Anı Yakala				\n				\n							\n			\n		\n						\n				\n									Bu atölyede çocuklar\, sanatçıların gündelik yaşamı nasıl gördüklerini ve bunu eserlerine nasıl yansıttıklarını keşfe çıkacak. Çeşitli tabloları birlikte inceleyen katılımcılar; sıradan gibi görünen anların aslında ne kadar özel ve anlatmaya değer olduğunu fark edecek. Atölye boyunca çocuklar\, sanatçıların renk\, kompozisyon ve detay seçimleri üzerine sohbet ederken kendi yaşamlarından kesitleri düşünmeye teşvik edilecek. Kendi hayatlarından veya hayallerinden bir anı yada sahneyi sanat yoluyla ifade edecek. Uygulayan: RHM Eğitim Ekibi 8 – 12 Yaş 								\n				\n							\n			\n		\n						\n					\n		\n				\n			\n						\n						\n					\n			\n						\n					DETAYLAR				\n				\n							\n			\n						\n		\n						\n				\n							\n			\n		\n						\n				\n							\n							\n											\n													\n										24 Mayıs Pazar - 12.00\n									\n								\n											\n													\n										İş Vapur\, Galataport Paket Postanesi Kapısı\n									\n						\n						\n				\n							\n			\n		\n						\n				\n										\n						\n									REZERVASYON\n					\n					\n								\n					\n		\n					\n		\n				\n						\n					\n			\n						\n					Yaklaşan Atölyeler				\n				\n							\n			\n		\n						\n					\n		\n					\n		\n				\n				\n					\n			\n						\n						\n					\n			\n						\n				\n					\n							\n						            Görüntüle\n            				\n				\n					\n		\n				\n			\n						\n				\n					\n	Şekillerin Peşinde				\n				\n				\n							\n			\n		\n						\n				\n				\n					\n			\n			Benan Solak		\n						\n				\n				\n							\n			\n		\n						\n				\n				\n					\n	Türkiye İş Bankası Resim Heykel Müzesi  \n \nİş Vapur Atölye				\n				\n					\n		\n					\n		\n				\n						\n					\n			\n						\n							\n			\n						\n		\n						\n					\n		\n					\n		\n				\n		\n			\n						\n						\n					\n			\n						\n				\n					\n							\n						            Görüntüle\n            				\n				\n					\n		\n				\n			\n						\n				\n					\n	Benim Kumbaram				\n				\n				\n							\n			\n		\n						\n				\n				\n					\n			\n			Benan Solak		\n						\n				\n				\n							\n			\n		\n						\n				\n				\n					\n	Türkiye İş Bankası Resim Heykel Müzesi  \n \nİş Vapur Atölye				\n				\n					\n		\n					\n		\n				\n						\n					\n			\n						\n							\n			\n						\n		\n						\n					\n		\n					\n		\n				\n		\n			\n						\n						\n					\n			\n						\n				\n					\n							\n						            Görüntüle\n            				\n				\n					\n		\n				\n			\n						\n				\n					\n	Tabağımdaki Natürmort				\n				\n				\n							\n			\n		\n						\n				\n				\n					\n			\n			Benan Solak		\n						\n				\n				\n							\n			\n		\n						\n				\n				\n					\n	Türkiye İş Bankası Resim Heykel Müzesi  \n \nİş Vapur Atölye
URL:https://issanat.com.tr/etkinlik/denizin-koruyuculari/
CATEGORIES:Türkiye İş Bankası Müzesi Atölye
ATTACH;FMTTYPE=image/jpeg:https://issanat.com.tr/wp-content/uploads/2026/03/ISSA-598_TIBM_Eminonu_Atolyeleri_720x513_Denizin_Koruyuculari.jpg
END:VEVENT
BEGIN:VEVENT
DTSTART;TZID=Europe/Istanbul:20260425T160000
DTEND;TZID=Europe/Istanbul:20260425T170000
DTSTAMP:20260425T154432
CREATED:20260420T135206Z
LAST-MODIFIED:20260420T135342Z
UID:10001651-1777132800-1777136400@issanat.com.tr
SUMMARY:Burcu Ural Kopan ile Renklerin Dünyasına Yolculuk
DESCRIPTION:Atölye				\n					\n		\n				\n			\n						\n					Paylaş:				\n				\n							\n						\n					\n		\n					\n		\n				\n							\n			\n		\n						\n				\n					Yaşantının Getirdikleri: Anı Yakala				\n				\n							\n			\n		\n						\n				\n									Bu atölyede çocuklar\, sanatçıların gündelik yaşamı nasıl gördüklerini ve bunu eserlerine nasıl yansıttıklarını keşfe çıkacak. Çeşitli tabloları birlikte inceleyen katılımcılar; sıradan gibi görünen anların aslında ne kadar özel ve anlatmaya değer olduğunu fark edecek. Atölye boyunca çocuklar\, sanatçıların renk\, kompozisyon ve detay seçimleri üzerine sohbet ederken kendi yaşamlarından kesitleri düşünmeye teşvik edilecek. Kendi hayatlarından veya hayallerinden bir anı yada sahneyi sanat yoluyla ifade edecek. Uygulayan: RHM Eğitim Ekibi 8 – 12 Yaş 								\n				\n							\n			\n		\n						\n					\n		\n				\n			\n						\n						\n					\n			\n						\n					DETAYLAR				\n				\n							\n			\n						\n		\n						\n				\n							\n			\n		\n						\n				\n							\n							\n											\n													\n										24 Mayıs Pazar - 12.00\n									\n								\n											\n													\n										İş Vapur\, Galataport Paket Postanesi Kapısı\n									\n						\n						\n				\n							\n			\n		\n						\n				\n										\n						\n									REZERVASYON\n					\n					\n								\n					\n		\n					\n		\n				\n						\n					\n			\n						\n					Yaklaşan Atölyeler				\n				\n							\n			\n		\n						\n					\n		\n					\n		\n				\n				\n					\n			\n						\n						\n					\n			\n						\n				\n					\n							\n						            Görüntüle\n            				\n				\n					\n		\n				\n			\n						\n				\n					\n	Şekillerin Peşinde				\n				\n				\n							\n			\n		\n						\n				\n				\n					\n			\n			Benan Solak		\n						\n				\n				\n							\n			\n		\n						\n				\n				\n					\n	Türkiye İş Bankası Resim Heykel Müzesi  \n \nİş Vapur Atölye				\n				\n					\n		\n					\n		\n				\n						\n					\n			\n						\n							\n			\n						\n		\n						\n					\n		\n					\n		\n				\n		\n			\n						\n						\n					\n			\n						\n				\n					\n							\n						            Görüntüle\n            				\n				\n					\n		\n				\n			\n						\n				\n					\n	Benim Kumbaram				\n				\n				\n							\n			\n		\n						\n				\n				\n					\n			\n			Benan Solak		\n						\n				\n				\n							\n			\n		\n						\n				\n				\n					\n	Türkiye İş Bankası Resim Heykel Müzesi  \n \nİş Vapur Atölye				\n				\n					\n		\n					\n		\n				\n						\n					\n			\n						\n							\n			\n						\n		\n						\n					\n		\n					\n		\n				\n		\n			\n						\n						\n					\n			\n						\n				\n					\n							\n						            Görüntüle\n            				\n				\n					\n		\n				\n			\n						\n				\n					\n	Tabağımdaki Natürmort				\n				\n				\n							\n			\n		\n						\n				\n				\n					\n			\n			Benan Solak		\n						\n				\n				\n							\n			\n		\n						\n				\n				\n					\n	Türkiye İş Bankası Resim Heykel Müzesi  \n \nİş Vapur Atölye
URL:https://issanat.com.tr/etkinlik/burcu-ural-kopan-ile-renklerin-dunyasina-yolculuk-2/
CATEGORIES:Resim Heykel Müzesi Atölye
ATTACH;FMTTYPE=image/jpeg:https://issanat.com.tr/wp-content/uploads/2026/04/ISSA-598_Muze_Atolye_rhm_renklerindunyasinayolculuk.jpg
END:VEVENT
END:VCALENDAR